BEGIN:VCALENDAR
VERSION:2.0
PRODID:-//Friends of Staunton State Park - ECPv6.15.20//NONSGML v1.0//EN
CALSCALE:GREGORIAN
METHOD:PUBLISH
X-ORIGINAL-URL:https://friendsofstauntonstatepark.org
X-WR-CALDESC:Events for Friends of Staunton State Park
REFRESH-INTERVAL;VALUE=DURATION:PT1H
X-Robots-Tag:noindex
X-PUBLISHED-TTL:PT1H
BEGIN:VTIMEZONE
TZID:America/Denver
BEGIN:DAYLIGHT
TZOFFSETFROM:-0700
TZOFFSETTO:-0600
TZNAME:MDT
DTSTART:20190310T090000
END:DAYLIGHT
BEGIN:STANDARD
TZOFFSETFROM:-0600
TZOFFSETTO:-0700
TZNAME:MST
DTSTART:20191103T080000
END:STANDARD
BEGIN:DAYLIGHT
TZOFFSETFROM:-0700
TZOFFSETTO:-0600
TZNAME:MDT
DTSTART:20200308T090000
END:DAYLIGHT
BEGIN:STANDARD
TZOFFSETFROM:-0600
TZOFFSETTO:-0700
TZNAME:MST
DTSTART:20201101T080000
END:STANDARD
BEGIN:DAYLIGHT
TZOFFSETFROM:-0700
TZOFFSETTO:-0600
TZNAME:MDT
DTSTART:20210314T090000
END:DAYLIGHT
BEGIN:STANDARD
TZOFFSETFROM:-0600
TZOFFSETTO:-0700
TZNAME:MST
DTSTART:20211107T080000
END:STANDARD
END:VTIMEZONE
BEGIN:VEVENT
DTSTART;TZID=America/Denver:20200628T100000
DTEND;TZID=America/Denver:20200628T150000
DTSTAMP:20260425T044138
CREATED:20200331T001553Z
LAST-MODIFIED:20200626T153423Z
UID:980-1593338400-1593356400@friendsofstauntonstatepark.org
SUMMARY:Marmot Fest
DESCRIPTION:2020 is a “special” year! So our annual Marmot Fest has changed to a visual/virtual meandering hike along Staunton Ranch Trail. Come enjoy a beautiful hike along Staunton Ranch from the meadows parking lot. Learn fun and fanciful facts about our little furry friends… the marmots! These will be happening from 10am to 3pm. \n\n\n\nSocial distance and no touch displays will give all visitors a safe and fun day! Watch marmot videos and dancing marmots then…Head on down the trail to enjoy the Dog vs Marmot escapade and a fun scavenger hunt!We will have a special bag of goodies for the kids\, including their very own marmot mask!Also Fishing with all equipment supplied will be offered at Davis Ponds.Then join us at the amphitheater at 845pm for a night sky /moon program- binoculars supplied!Don’t forget to adopt a marmot plush toy at the visitor center!!!
URL:https://friendsofstauntonstatepark.org/event/marmot-fest-2/
LOCATION:Staunton State Park\, 12102 S Elk Creek Road\, Pine\, CO\, 80470\, United States
ATTACH;FMTTYPE=image/jpeg:https://friendsofstauntonstatepark.org/wp-content/uploads/2020/03/Staunton-State-Park-Visitor-Center-with-marmot.jpg
END:VEVENT
BEGIN:VEVENT
DTSTART;TZID=America/Denver:20200627T100000
DTEND;TZID=America/Denver:20200627T150000
DTSTAMP:20260425T044138
CREATED:20200331T001516Z
LAST-MODIFIED:20200626T153307Z
UID:978-1593252000-1593270000@friendsofstauntonstatepark.org
SUMMARY:Marmot Fest
DESCRIPTION:2020 is a “special” year! So our annual Marmot Fest has changed to a visual/virtual meandering hike along Staunton Ranch Trail. Come enjoy a beautiful hike along Staunton Ranch from the meadows parking lot. Learn fun and fanciful facts about our little furry friends… the marmots! These will be happening from 10am to 3pm.Social distance and no touch displays will give all visitors a safe and fun day! Watch marmot videos and dancing marmots then…Head on down the trail to enjoy the Dog vs Marmot escapade and a fun scavenger hunt!We will have a special bag of goodies for the kids\, including their very own marmot mask!Fishing with all equipment supplied will be offered at Davis Ponds if you’d like to give it a try.Then join us at the amphitheater at 845pm for a night sky /moon program- binoculars supplied!Don’t forget to adopt a marmot plush toy at the visitor center!
URL:https://friendsofstauntonstatepark.org/event/marmot-fest/
LOCATION:Staunton State Park\, 12102 S Elk Creek Road\, Pine\, CO\, 80470\, United States
ATTACH;FMTTYPE=image/jpeg:https://friendsofstauntonstatepark.org/wp-content/uploads/2020/03/Staunton-State-Park-Visitor-Center-with-marmot.jpg
END:VEVENT
BEGIN:VEVENT
DTSTART;TZID=America/Denver:20200623T100000
DTEND;TZID=America/Denver:20200623T110000
DTSTAMP:20260425T044138
CREATED:20200611T013840Z
LAST-MODIFIED:20200611T022734Z
UID:1198-1592906400-1592910000@friendsofstauntonstatepark.org
SUMMARY:Guided Wildflower Hikes
DESCRIPTION:Join us every Tuesday at 10 am for a wildflower hike led by a plant master expert! Meet at the Ranch Hand Group Picnic area. The hike will be about a mile on the Davis Ponds trail. Please wear a mask\, and stay 6 feet away from anyone not in your group.
URL:https://friendsofstauntonstatepark.org/event/guided-wildflower-hikes-3/
LOCATION:CO
END:VEVENT
BEGIN:VEVENT
DTSTART;TZID=America/Denver:20200617T090000
DTEND;TZID=America/Denver:20200617T110000
DTSTAMP:20260425T044138
CREATED:20200330T222243Z
LAST-MODIFIED:20200415T010131Z
UID:949-1592384400-1592391600@friendsofstauntonstatepark.org
SUMMARY:Friends of Staunton State Park Board Meeting
DESCRIPTION:
URL:https://friendsofstauntonstatepark.org/event/friends-of-staunton-state-park-board-meeting-3/
LOCATION:Virtually
END:VEVENT
BEGIN:VEVENT
DTSTART;TZID=America/Denver:20200616T100000
DTEND;TZID=America/Denver:20200616T110000
DTSTAMP:20260425T044138
CREATED:20200611T013052Z
LAST-MODIFIED:20200611T023356Z
UID:1195-1592301600-1592305200@friendsofstauntonstatepark.org
SUMMARY:Guided Wildflower Hikes
DESCRIPTION:Join us every Tuesday at 10 am for a wildflower hike led by a plant master expert! Meet at the Ranch Hand Group Picnic area. The hike will be about a mile on the Davis Ponds trail. Please wear a mask\, and stay 6 feet away from anyone not in your group.
URL:https://friendsofstauntonstatepark.org/event/guided-wildflower-hikes-2/
LOCATION:CO
END:VEVENT
BEGIN:VEVENT
DTSTART;TZID=America/Denver:20200609T100000
DTEND;TZID=America/Denver:20200609T110000
DTSTAMP:20260425T044138
CREATED:20200611T011759Z
LAST-MODIFIED:20200611T012627Z
UID:1191-1591696800-1591700400@friendsofstauntonstatepark.org
SUMMARY:Guided Wildflower Hikes
DESCRIPTION:Join us every Tuesday at 10 am for a wildflower hike led by a plant master expert! Meet at the Ranch Hand Group Picnic area. The hike will be about a mile on the Davis Ponds trail. Please wear a mask\, and stay 6 feet away from anyone not in your group.
URL:https://friendsofstauntonstatepark.org/event/guided-wildflower-hikes/
LOCATION:CO
END:VEVENT
BEGIN:VEVENT
DTSTART;TZID=America/Denver:20200520T090000
DTEND;TZID=America/Denver:20200520T110000
DTSTAMP:20260425T044138
CREATED:20200330T222140Z
LAST-MODIFIED:20200330T222417Z
UID:947-1589965200-1589972400@friendsofstauntonstatepark.org
SUMMARY:Friends of Staunton State Park Board Meeting
DESCRIPTION:
URL:https://friendsofstauntonstatepark.org/event/friends-of-staunton-state-park-board-meeting-2/
LOCATION:Virtually
END:VEVENT
BEGIN:VEVENT
DTSTART;VALUE=DATE:20200518
DTEND;VALUE=DATE:20200519
DTSTAMP:20260425T044138
CREATED:20200330T223516Z
LAST-MODIFIED:20200330T223516Z
UID:972-1589760000-1589846399@friendsofstauntonstatepark.org
SUMMARY:7th Anniversary of Staunton State Park
DESCRIPTION:
URL:https://friendsofstauntonstatepark.org/event/7th-anniversary-of-staunton-state-park/
LOCATION:Staunton State Park\, 12102 S Elk Creek Road\, Pine\, CO\, 80470\, United States
END:VEVENT
BEGIN:VEVENT
DTSTART;TZID=America/Denver:20200504T180000
DTEND;TZID=America/Denver:20200505T175959
DTSTAMP:20260425T044138
CREATED:20200501T224200Z
LAST-MODIFIED:20200501T224210Z
UID:1099-1588615200-1588701599@friendsofstauntonstatepark.org
SUMMARY:Giving Tuesday Now
DESCRIPTION:From the organization that brings us #COGivesDay\, Community First Foundation\, and an amazing opportunity for nonprofits to fundraise together\, they announce #GivingTuesdayNow – a global day of giving and unity that will take place on May 5\, 2020 as an emergency response to the unprecedented need caused by COVID-19.At a time when we are all experiencing untold hardship and sorrow\, generosity\, kindness and compassion is what lifts us up and brings people of all races\, faiths\, and political views together across the world to connect and heal through supporting one another. The power to make a positive change in the lives of others is a fundamental value us Coloradoans act on abundantly.“I go to nature to be soothed\, healed and have my senses put in order.” – John BurroughsAs we’ve discovered through this crisis\, our love of the outdoors\, our need to connect with nature to soothe our soul and calm our nerves\, is more important than ever. Our mission\, “Working in partnership with others to preserve\, promote and protect the wildlife\, natural beauty and historic legacy of Staunton State Park – Colorado Parks and Wildlife for present and future generations\,” focuses on one small slice of that natural bounty in our beloved mountains\, and it’s done for our most treasured commodity – all of you who hold Staunton dear to your hearts as we do. And we couldn’t do it without you!There are many in need during these tough times. Please keep us in mind for contributions if you are able\, and join us in supporting those most in need in our community by donating to those area nonprofits who provide food\, housing\, and heating and utilities assistance.#COGives provides a safe and secure way to support our Colorado nonprofits in one easy transaction by donating through ColoradoGives.org. Search for nonprofits by name or zip code\, schedule your donations\, and know that you are appreciated and cherished beyond measure.Please stay safe and healthy\, keep up that social distancing\, and we’ll see you on the trails!
URL:https://friendsofstauntonstatepark.org/event/giving-tuesday-now/
LOCATION:CO
ATTACH;FMTTYPE=image/jpeg:https://friendsofstauntonstatepark.org/wp-content/uploads/2020/05/1085.jpg
END:VEVENT
BEGIN:VEVENT
DTSTART;TZID=America/Denver:20200415T090000
DTEND;TZID=America/Denver:20200415T110000
DTSTAMP:20260425T044138
CREATED:20200330T222039Z
LAST-MODIFIED:20200330T222039Z
UID:944-1586941200-1586948400@friendsofstauntonstatepark.org
SUMMARY:Friends of Staunton State Park Board Meeting
DESCRIPTION:
URL:https://friendsofstauntonstatepark.org/event/friends-of-staunton-state-park-board-meeting/
LOCATION:Virtually
END:VEVENT
END:VCALENDAR