BEGIN:VCALENDAR
VERSION:2.0
PRODID:-//Friends of Staunton State Park - ECPv6.15.20//NONSGML v1.0//EN
CALSCALE:GREGORIAN
METHOD:PUBLISH
X-ORIGINAL-URL:https://friendsofstauntonstatepark.org
X-WR-CALDESC:Events for Friends of Staunton State Park
REFRESH-INTERVAL;VALUE=DURATION:PT1H
X-Robots-Tag:noindex
X-PUBLISHED-TTL:PT1H
BEGIN:VTIMEZONE
TZID:America/Denver
BEGIN:DAYLIGHT
TZOFFSETFROM:-0700
TZOFFSETTO:-0600
TZNAME:MDT
DTSTART:20190310T090000
END:DAYLIGHT
BEGIN:STANDARD
TZOFFSETFROM:-0600
TZOFFSETTO:-0700
TZNAME:MST
DTSTART:20191103T080000
END:STANDARD
BEGIN:DAYLIGHT
TZOFFSETFROM:-0700
TZOFFSETTO:-0600
TZNAME:MDT
DTSTART:20200308T090000
END:DAYLIGHT
BEGIN:STANDARD
TZOFFSETFROM:-0600
TZOFFSETTO:-0700
TZNAME:MST
DTSTART:20201101T080000
END:STANDARD
BEGIN:DAYLIGHT
TZOFFSETFROM:-0700
TZOFFSETTO:-0600
TZNAME:MDT
DTSTART:20210314T090000
END:DAYLIGHT
BEGIN:STANDARD
TZOFFSETFROM:-0600
TZOFFSETTO:-0700
TZNAME:MST
DTSTART:20211107T080000
END:STANDARD
END:VTIMEZONE
BEGIN:VEVENT
DTSTART;TZID=America/Denver:20201004T100000
DTEND;TZID=America/Denver:20201004T140000
DTSTAMP:20260423T105614
CREATED:20201004T185452Z
LAST-MODIFIED:20201004T185503Z
UID:1416-1601805600-1601820000@friendsofstauntonstatepark.org
SUMMARY:Interpreter's Table: Leaf Peeping!
DESCRIPTION:The leaves are changing and the mountains look amazing. Come visit and discover how and why leaves change their colors in the fall!
URL:https://friendsofstauntonstatepark.org/event/interpreters-table-leaf-peeping-2/
ATTACH;FMTTYPE=image/jpeg:https://friendsofstauntonstatepark.org/wp-content/uploads/2020/10/Fall-gold-at-the-Policemans-Cabin-Staunton-State-Park-by-Ranger-Dale.jpg
END:VEVENT
BEGIN:VEVENT
DTSTART;TZID=America/Denver:20201003T100000
DTEND;TZID=America/Denver:20201003T140000
DTSTAMP:20260423T105614
CREATED:20201004T185303Z
LAST-MODIFIED:20201004T185315Z
UID:1413-1601719200-1601733600@friendsofstauntonstatepark.org
SUMMARY:Interpreter's Table: Leaf Peeping!
DESCRIPTION:The leaves are changing and the mountains look amazing. Come visit and discover how and why leaves change their colors in the fall!
URL:https://friendsofstauntonstatepark.org/event/interpreters-table-leaf-peeping/
ATTACH;FMTTYPE=image/jpeg:https://friendsofstauntonstatepark.org/wp-content/uploads/2020/10/Fall-gold-at-the-Policemans-Cabin-Staunton-State-Park-by-Ranger-Dale.jpg
END:VEVENT
BEGIN:VEVENT
DTSTART;TZID=America/Denver:20200930T100000
DTEND;TZID=America/Denver:20200930T140000
DTSTAMP:20260423T105614
CREATED:20200914T190058Z
LAST-MODIFIED:20200914T190110Z
UID:1403-1601460000-1601474400@friendsofstauntonstatepark.org
SUMMARY:Archery in the Park
DESCRIPTION:Come enjoy archery! All skill levels welcome. This event is Instructor guided. All equipment is provided. Fun for all ages! The archery range is located above the Meadow Parking lot. Please wear a mask and practice social distancing!
URL:https://friendsofstauntonstatepark.org/event/archery-in-the-park-3/
END:VEVENT
BEGIN:VEVENT
DTSTART;TZID=America/Denver:20200926T183000
DTEND;TZID=America/Denver:20200926T193000
DTSTAMP:20260423T105614
CREATED:20200914T185810Z
LAST-MODIFIED:20200914T185828Z
UID:1401-1601145000-1601148600@friendsofstauntonstatepark.org
SUMMARY:Coyote Awakenings Amphitheater Program
DESCRIPTION:Location: Marmot Amphitheater This hour long program presented by interpretive naturalist/long time storyteller Swiftdeer-Paige celebrates the return of the coyote to our area. Play a lively audience participatory game to learn how coyotes survive in the modern world\, listen to a whimsical Okanagan story about how the spirit chief named coyotes and other animals\, engage in the entire coyote friendly version to Home On The Range accompanied by harmonica\, and then be enthralled to hear an amazing true story of how Swiftdeer was saved by a coyote and her pup in the rugged high desert wilderness of north central New Mexico. Please wear a mask and practice social distancing!
URL:https://friendsofstauntonstatepark.org/event/coyote-awakenings-amphitheater-program/
END:VEVENT
BEGIN:VEVENT
DTSTART;TZID=America/Denver:20200923T100000
DTEND;TZID=America/Denver:20200923T140000
DTSTAMP:20260423T105614
CREATED:20200914T185629Z
LAST-MODIFIED:20200914T185651Z
UID:1399-1600855200-1600869600@friendsofstauntonstatepark.org
SUMMARY:Fishing at Davis Ponds
DESCRIPTION:Enjoy a day of fishing! Instructors will provide equipment and instruction on bait\, spin cast fishing in a Colorado high country lake. Those 16yrs and older must have a valid Colorado fishing license. Please wear a mask and practice social distancing!
URL:https://friendsofstauntonstatepark.org/event/fishing-at-davis-ponds-2/
ATTACH;FMTTYPE=image/jpeg:https://friendsofstauntonstatepark.org/wp-content/uploads/2020/03/Fisherman_Staunton-State-Park_81D0613w.jpg
END:VEVENT
BEGIN:VEVENT
DTSTART;TZID=America/Denver:20200920T100000
DTEND;TZID=America/Denver:20200920T140000
DTSTAMP:20260423T105614
CREATED:20200906T175844Z
LAST-MODIFIED:20200906T175856Z
UID:1391-1600596000-1600610400@friendsofstauntonstatepark.org
SUMMARY:Interpreter's Table: Squirrels and Such
DESCRIPTION:Come check out the various critters in the squirrel family and those that look like them and how they are preparing their homes and food stores for winter! \n\n\n\nTo keep staff\, visitors and volunteers safe please wear a mask and practice social distancing.
URL:https://friendsofstauntonstatepark.org/event/interpreters-table-squirrels-and-such-2/
ATTACH;FMTTYPE=image/jpeg:https://friendsofstauntonstatepark.org/wp-content/uploads/2020/09/Abert-Squirrel.www_.flickr.com_.photos.wildlifewanderer.8758397499.jpg
END:VEVENT
BEGIN:VEVENT
DTSTART;TZID=America/Denver:20200919T200000
DTEND;TZID=America/Denver:20200919T213000
DTSTAMP:20260423T105614
CREATED:20200906T173645Z
LAST-MODIFIED:20200906T181424Z
UID:1386-1600545600-1600551000@friendsofstauntonstatepark.org
SUMMARY:Night Sky Program
DESCRIPTION:Come join us as we discover how our ancestors “connected the dots” in the night sky. Listen to ancient star stories of gods\, monsters\, heroes and villains. Meet at Marmot Amphitheater\, program begins at 8:15pm. \n\n\n\nTo keep staff\, visitors and volunteers safe please wear a mask and practice social distancing.
URL:https://friendsofstauntonstatepark.org/event/night-sky-program-3/
END:VEVENT
BEGIN:VEVENT
DTSTART;TZID=America/Denver:20200919T100000
DTEND;TZID=America/Denver:20200919T140000
DTSTAMP:20260423T105614
CREATED:20200906T174431Z
LAST-MODIFIED:20200906T175525Z
UID:1388-1600509600-1600524000@friendsofstauntonstatepark.org
SUMMARY:Interpreter's Table: Squirrels and Such
DESCRIPTION:Come check out the various critters in the squirrel family and those that look like them and how they are preparing their homes and food stores for winter! \n\n\n\nTo keep staff\, visitors and volunteers safe please wear a mask and practice social distancing.
URL:https://friendsofstauntonstatepark.org/event/interpreters-table-squirrels-and-such/
ATTACH;FMTTYPE=image/jpeg:https://friendsofstauntonstatepark.org/wp-content/uploads/2020/09/Abert-Squirrel.www_.flickr.com_.photos.wildlifewanderer.8758397499.jpg
END:VEVENT
BEGIN:VEVENT
DTSTART;TZID=America/Denver:20200916T090000
DTEND;TZID=America/Denver:20200916T110000
DTSTAMP:20260423T105614
CREATED:20200330T222640Z
LAST-MODIFIED:20200330T222640Z
UID:955-1600246800-1600254000@friendsofstauntonstatepark.org
SUMMARY:Friends of Staunton State Park Board Meeting
DESCRIPTION:
URL:https://friendsofstauntonstatepark.org/event/friends-of-staunton-state-park-board-meeting-6/
LOCATION:Virtually
END:VEVENT
BEGIN:VEVENT
DTSTART;TZID=America/Denver:20200915T100000
DTEND;TZID=America/Denver:20200915T140000
DTSTAMP:20260423T105614
CREATED:20200914T175802Z
LAST-MODIFIED:20200914T175817Z
UID:1397-1600164000-1600178400@friendsofstauntonstatepark.org
SUMMARY:Fishing at Davis Ponds
DESCRIPTION:Enjoy a day of fishing! Instructors will provide equipment and instruction on bait\, spin cast fishing in a Colorado high country lake. Those 16yrs and older must have a valid Colorado fishing license. Please wear a mask and practice social distancing!
URL:https://friendsofstauntonstatepark.org/event/fishing-at-davis-ponds/
ATTACH;FMTTYPE=image/jpeg:https://friendsofstauntonstatepark.org/wp-content/uploads/2020/03/Fisherman_Staunton-State-Park_81D0613w.jpg
END:VEVENT
BEGIN:VEVENT
DTSTART;TZID=America/Denver:20200913T100000
DTEND;TZID=America/Denver:20200913T150000
DTSTAMP:20260423T105614
CREATED:20200330T223355Z
LAST-MODIFIED:20200906T181235Z
UID:970-1599991200-1600009200@friendsofstauntonstatepark.org
SUMMARY:Living History Days
DESCRIPTION:Come join some old time fun\, live music by the campfire! Learn about how Doctors Rachel and Archibald Staunton treated patients during the pandemic of their times\, with old school surgery techniques and medicinal plants. John Steinle will be there to discuss remedies of the day. \n\n\n\nExperience the protest of the Feather Trade and the fight to protect our beautiful colorful birds from becoming decorations on ladies hats! \n\n\n\nTrapping and Hunting gear used in the day will be displayed along with the valuable furs that were sought after by fur traders. \n\n\n\nAll events will be held at the historical Staunton Cabin. Hop on the hay-ride at the visitor center or road below Meadow Parking or it’s a 30 min hike on the Davis Ponds to Chase Meadow Trail from either the Visitor Center or Group Picnic Area. Also easily accessed along Staunton Ranch Trail to the Historical Cabin District. \n\n\n\nTo keep staff\, visitors and volunteers safe please wear a mask and practice social distancing.
URL:https://friendsofstauntonstatepark.org/event/living-history-days-2/
LOCATION:Staunton State Park\, 12102 S Elk Creek Road\, Pine\, CO\, 80470\, United States
ATTACH;FMTTYPE=image/jpeg:https://friendsofstauntonstatepark.org/wp-content/uploads/2020/03/Staunton-Cabin-Exterior_D810323.jpg
END:VEVENT
BEGIN:VEVENT
DTSTART;TZID=America/Denver:20200912T100000
DTEND;TZID=America/Denver:20200912T150000
DTSTAMP:20260423T105614
CREATED:20200330T223304Z
LAST-MODIFIED:20200906T181308Z
UID:968-1599904800-1599922800@friendsofstauntonstatepark.org
SUMMARY:Living History Days
DESCRIPTION:Come join some old time fun\, live music by the campfire! Learn about how Doctors Rachel and Archibald Staunton treated patients during the pandemic of their times\, with old school surgery techniques and medicinal plants. John Steinle will be there to discuss remedies of the day. \n\n\n\nExperience the protest of the Feather Trade and the fight to protect our beautiful colorful birds from becoming decorations on ladies hats! \n\n\n\nTrapping and Hunting gear used in the day will be displayed along with the valuable furs that were sought after by fur traders. \n\n\n\nAll events will be held at the historical Staunton Cabin. Hop on the hay-ride at the visitor center or road below Meadow Parking or it’s a 30 min hike on the Davis Ponds to Chase Meadow Trail from either the Visitor Center or Group Picnic Area. Also easily accessed along Staunton Ranch Trail to the Historical Cabin District. \n\n\n\nTo keep staff\, visitors and volunteers safe please wear a mask and practice social distancing.
URL:https://friendsofstauntonstatepark.org/event/living-history-days/
LOCATION:Staunton State Park\, 12102 S Elk Creek Road\, Pine\, CO\, 80470\, United States
ATTACH;FMTTYPE=image/jpeg:https://friendsofstauntonstatepark.org/wp-content/uploads/2020/04/Staunton-Cabin-Exterior_D810323.jpg
END:VEVENT
BEGIN:VEVENT
DTSTART;TZID=America/Denver:20200906T100000
DTEND;TZID=America/Denver:20200906T140000
DTSTAMP:20260423T105614
CREATED:20200906T171322Z
LAST-MODIFIED:20200906T181501Z
UID:1379-1599386400-1599400800@friendsofstauntonstatepark.org
SUMMARY:Interpreter's Table: The Rut!
DESCRIPTION:It’s that time of year! The male elk\, deer and moose are battling and bugling to win the loyalty of a “harem” of females. Visit the Interpreter’s Table and see what the “Rut” is all about! \n\n\n\nTo keep staff\, visitors and volunteers safe please wear a mask and practice social distancing.
URL:https://friendsofstauntonstatepark.org/event/interpreters-table-the-rut/
ATTACH;FMTTYPE=image/jpeg:https://friendsofstauntonstatepark.org/wp-content/uploads/2020/09/Bull-Elk-Fighting-_D814353-Cropped.jpg
END:VEVENT
BEGIN:VEVENT
DTSTART;TZID=America/Denver:20200829T100000
DTEND;TZID=America/Denver:20200829T140000
DTSTAMP:20260423T105614
CREATED:20200811T110534Z
LAST-MODIFIED:20200811T110546Z
UID:1352-1598695200-1598709600@friendsofstauntonstatepark.org
SUMMARY:Archery in the Park
DESCRIPTION:Come enjoy archery! All skill levels welcome. This event is Instructor guided. All equipment is provided. Fun for all ages! Meadows Parking Area.
URL:https://friendsofstauntonstatepark.org/event/archery-in-the-park-2/
END:VEVENT
BEGIN:VEVENT
DTSTART;TZID=America/Denver:20200825T100000
DTEND;TZID=America/Denver:20200825T110000
DTSTAMP:20260423T105614
CREATED:20200611T020534Z
LAST-MODIFIED:20200611T031236Z
UID:1216-1598349600-1598353200@friendsofstauntonstatepark.org
SUMMARY:Guided Wildflower Hike
DESCRIPTION:Join us every Tuesday at 10 am for a wildflower hike led by a plant master expert! Meet at the Ranch Hand Group Picnic area. The hike will be about a mile on the Davis Ponds trail. Please wear a mask\, and stay 6 feet away from anyone not in your group.
URL:https://friendsofstauntonstatepark.org/event/guided-wildflower-hikes-10/
END:VEVENT
BEGIN:VEVENT
DTSTART;TZID=America/Denver:20200822T100000
DTEND;TZID=America/Denver:20200822T140000
DTSTAMP:20260423T105614
CREATED:20200811T102641Z
LAST-MODIFIED:20200811T102651Z
UID:1350-1598090400-1598104800@friendsofstauntonstatepark.org
SUMMARY:Interpreter's Table: "Growing Up Bear"
DESCRIPTION:Come visit the Interpreter’s Table at Meadows Lot and find out how bears spend their first year! Meadows Parking Area. \n\n\n\nCome visit the Interpreter’s Table at Meadows Lot and find out how bears spend their first year! Meadows Parking Area.
URL:https://friendsofstauntonstatepark.org/event/interpreters-table-growing-up-bear/
END:VEVENT
BEGIN:VEVENT
DTSTART;TZID=America/Denver:20200819T090000
DTEND;TZID=America/Denver:20200819T110000
DTSTAMP:20260423T105614
CREATED:20200330T222549Z
LAST-MODIFIED:20200330T222549Z
UID:953-1597827600-1597834800@friendsofstauntonstatepark.org
SUMMARY:Friends of Staunton State Park Board Meeting
DESCRIPTION:
URL:https://friendsofstauntonstatepark.org/event/friends-of-staunton-state-park-board-meeting-5/
LOCATION:Virtually
END:VEVENT
BEGIN:VEVENT
DTSTART;TZID=America/Denver:20200818T203000
DTEND;TZID=America/Denver:20200818T213000
DTSTAMP:20260423T105614
CREATED:20200811T094110Z
LAST-MODIFIED:20200811T094119Z
UID:1346-1597782600-1597786200@friendsofstauntonstatepark.org
SUMMARY:Night Sky Program
DESCRIPTION:Come join us as we discover how our ancestors “connected the dots” in the night sky. Listen to ancient star stories of gods and monsters\, heroes and villains. Meet at Marmot amphitheater.
URL:https://friendsofstauntonstatepark.org/event/night-sky-program-2/
END:VEVENT
BEGIN:VEVENT
DTSTART;TZID=America/Denver:20200818T100000
DTEND;TZID=America/Denver:20200818T110000
DTSTAMP:20260423T105614
CREATED:20200811T094330Z
LAST-MODIFIED:20200811T094341Z
UID:1348-1597744800-1597748400@friendsofstauntonstatepark.org
SUMMARY:Story Time
DESCRIPTION:Come join story time and then a \n\n\n\nfun hike to learn about the natural world! The hike will be about 1 mile (or less) along Davis Ponds Trail. Meet at the visitor center Patio.
URL:https://friendsofstauntonstatepark.org/event/story-time-2/
END:VEVENT
BEGIN:VEVENT
DTSTART;TZID=America/Denver:20200818T100000
DTEND;TZID=America/Denver:20200818T110000
DTSTAMP:20260423T105614
CREATED:20200611T020314Z
LAST-MODIFIED:20200611T031906Z
UID:1214-1597744800-1597748400@friendsofstauntonstatepark.org
SUMMARY:Guided Wildflower Hike
DESCRIPTION:Join us every Tuesday at 10 am for a wildflower hike led by a plant master expert! Meet at the Ranch Hand Group Picnic area. The hike will be about a mile on the Davis Ponds trail. Please wear a mask\, and stay 6 feet away from anyone not in your group.
URL:https://friendsofstauntonstatepark.org/event/guided-wildflower-hikes-9/
END:VEVENT
BEGIN:VEVENT
DTSTART;TZID=America/Denver:20200816T100000
DTEND;TZID=America/Denver:20200816T140000
DTSTAMP:20260423T105614
CREATED:20200811T072833Z
LAST-MODIFIED:20200811T072843Z
UID:1344-1597572000-1597586400@friendsofstauntonstatepark.org
SUMMARY:Fly Fishing
DESCRIPTION:Fish are hopping at the Davis Ponds! Instructor led program with fly rods and flies available for use. Those 16yrs and older must have a valid Colorado fishing license.
URL:https://friendsofstauntonstatepark.org/event/fly-fishing-2/
END:VEVENT
BEGIN:VEVENT
DTSTART;TZID=America/Denver:20200815T203000
DTEND;TZID=America/Denver:20200815T213000
DTSTAMP:20260423T105614
CREATED:20200811T072612Z
LAST-MODIFIED:20200811T072621Z
UID:1342-1597523400-1597527000@friendsofstauntonstatepark.org
SUMMARY:Night Sky Program
DESCRIPTION:Come join us as we discover how our ancestors “connected the dots” in the night sky. Listen to ancient star stories of gods\, monsters\, heroes and villains. Meet at Marmot amphitheater.
URL:https://friendsofstauntonstatepark.org/event/night-sky-program/
END:VEVENT
BEGIN:VEVENT
DTSTART;TZID=America/Denver:20200815T100000
DTEND;TZID=America/Denver:20200815T140000
DTSTAMP:20260423T105614
CREATED:20200811T034922Z
LAST-MODIFIED:20200811T040355Z
UID:1338-1597485600-1597500000@friendsofstauntonstatepark.org
SUMMARY:Fly Fishing
DESCRIPTION:Fish are hopping at the Davis Ponds! Instructor led program with fly rods and flies available for use. Those 16yrs and older must have a valid Colorado fishing license.
URL:https://friendsofstauntonstatepark.org/event/fly-fishing/
END:VEVENT
BEGIN:VEVENT
DTSTART;TZID=America/Denver:20200815T080000
DTEND;TZID=America/Denver:20200815T120000
DTSTAMP:20260423T105614
CREATED:20200811T000030Z
LAST-MODIFIED:20200813T222014Z
UID:1311-1597478400-1597492800@friendsofstauntonstatepark.org
SUMMARY:Mark Madsen Accessibility Celebration
DESCRIPTION:August 10\, 2020 is the 5th anniversary of Mark Madsen’s passing\, and it’s hard to believe that much time has passed already. In those years\, and thanks to the many incredible donations by all of you\, we have purchased 5 Action trackchairs at a cost of $15\,000 each and helped get this ground-breaking program off the ground. Colorado Parks & Wildlife created the Staunton Track-Chair Program\, and Staunton volunteers have taken over 500 visitors with disabilities in the track chairs allowing them to hike\, fish\, and enjoy the great outdoors with their friends and families. Every year\, the Action trackchair reservations are booked out through the summer once the program opens in the spring and multiple track chairs hikes are scheduled every Friday\, Saturday and Sunday from June through October. The immense and continuing popularity of this program is a testament to the amazing Staunton volunteers and staff dedicating their time and passionate effort\, CPW’s committment to accessibility\, and the tremendous need for a program such as this. \n\n\n\n\n\n\n\nWith consideration of everyone’s health and safety due to COVID-19\, we have decided not to hold our traditional BBQ potluck Mark Madsen Accessibility fundraiser. Instead\, we will be have a table under our tent at the intersection of the Staunton Ranch Trail and Dines Trail where\, as our thanks to all of you who have supported us over the years\, we will be giving out small goodie bags containing\, among other things\, the coupons below for you to take to the listed participating area restaurants\, Aspen Peak Cellars\, Brooks Place Tavern and Rocky Mountain Wraps\, who have generously offered to support Friends of Staunton State Park by donating a portion of their sales for the day to us! In addition to some of their proceeds\, Aspen Peak Cellars would like to do a drawing for an annual Colorado State Park Pass (value $80.00)! Be sure to fill out the contact information and take it to the winery on Saturday or Sunday to qualify. **You must turn in the drawing slip AT Aspen Peak Cellars on Saturday the 15th or Sunday the 16th- it will not be added to the drawing if left at Brooks Place Tavern or Rocky Mountain Wraps\, or if posted online.** \n\n\n\nVisit these local establishments on August 15th and mention Friends of Staunton State Park to help support the Mark Madsen Accessibility Fund!\n\n\n\nSubmit this slip at Aspen Peak Cellars ONLY for a chance to win an annual Colorado State Park Pass \n\n\n\nWith the difficulties caused by the pandemic\, we’ve seen record-breaking numbers of new visitors to Staunton State Park. People have discovered how healing and beneficial it is to be outdoors\, and hopefully are realizing how important it is to Preserve\, Promote and Protect our natural lands. The support that Friends of Staunton State Park provides for education programs\, trail signage\, visitor center displays\, our preservation of the historic Staunton Homestead Cabin\, and other amenities is needed more than ever. \n\n\n\nWe greatly appreciate any donations you can make\, and hope you will continue to help us in our mission\, “working in partnership with others to preserve\, promote and protect the wildlife\, natural beauty and historic legacy of Staunton State Park for present and future generations.” \n\n\n\nThank you all! We look forward to seeing you on the trails and at the 2021 Mark Madsen Accessibility Celebration.
URL:https://friendsofstauntonstatepark.org/event/mark-madsen-accessibility-celebration/
END:VEVENT
BEGIN:VEVENT
DTSTART;TZID=America/Denver:20200812T100000
DTEND;TZID=America/Denver:20200812T110000
DTSTAMP:20260423T105614
CREATED:20200811T045920Z
LAST-MODIFIED:20200811T045930Z
UID:1340-1597226400-1597230000@friendsofstauntonstatepark.org
SUMMARY:Story Time
DESCRIPTION:Come join story time and then a fun hike to learn about the natural world! The hike will be about 1 mile (or less) along Davis Ponds Trail. Meet at the Visitor Center Patio.
URL:https://friendsofstauntonstatepark.org/event/story-time/
END:VEVENT
BEGIN:VEVENT
DTSTART;TZID=America/Denver:20200811T100000
DTEND;TZID=America/Denver:20200811T140000
DTSTAMP:20260423T105614
CREATED:20200811T034724Z
LAST-MODIFIED:20200811T034734Z
UID:1336-1597140000-1597154400@friendsofstauntonstatepark.org
SUMMARY:Archery in the Park!
DESCRIPTION:Come enjoy archery! All skill levels welcome. This event is Instructor guided. All equipment is provided. Fun for all ages! Meadows Parking Area.
URL:https://friendsofstauntonstatepark.org/event/archery-in-the-park/
END:VEVENT
BEGIN:VEVENT
DTSTART;TZID=America/Denver:20200811T100000
DTEND;TZID=America/Denver:20200811T110000
DTSTAMP:20260423T105614
CREATED:20200611T020058Z
LAST-MODIFIED:20200611T031949Z
UID:1212-1597140000-1597143600@friendsofstauntonstatepark.org
SUMMARY:Guided Wildflower Hike
DESCRIPTION:Join us every Tuesday at 10 am for a wildflower hike led by a plant master expert! Meet at the Ranch Hand Group Picnic area. The hike will be about a mile on the Davis Ponds trail. Please wear a mask\, and stay 6 feet away from anyone not in your group.
URL:https://friendsofstauntonstatepark.org/event/guided-wildflower-hikes-8/
END:VEVENT
BEGIN:VEVENT
DTSTART;TZID=America/Denver:20200804T100000
DTEND;TZID=America/Denver:20200804T110000
DTSTAMP:20260423T105614
CREATED:20200611T015917Z
LAST-MODIFIED:20200611T032033Z
UID:1210-1596535200-1596538800@friendsofstauntonstatepark.org
SUMMARY:Guided Wildflower Hike
DESCRIPTION:Join us every Tuesday at 10 am for a wildflower hike led by a plant master expert! Meet at the Ranch Hand Group Picnic area. The hike will be about a mile on the Davis Ponds trail. Please wear a mask\, and stay 6 feet away from anyone not in your group.
URL:https://friendsofstauntonstatepark.org/event/guided-wildflower-hikes-7/
END:VEVENT
BEGIN:VEVENT
DTSTART;VALUE=DATE:20200802
DTEND;VALUE=DATE:20200803
DTSTAMP:20260423T105614
CREATED:20200330T223202Z
LAST-MODIFIED:20200330T223202Z
UID:966-1596326400-1596412799@friendsofstauntonstatepark.org
SUMMARY:Outdoor Skills Day
DESCRIPTION:
URL:https://friendsofstauntonstatepark.org/event/outdoor-skills-day-2/
LOCATION:Staunton State Park\, 12102 S Elk Creek Road\, Pine\, CO\, 80470\, United States
END:VEVENT
BEGIN:VEVENT
DTSTART;VALUE=DATE:20200801
DTEND;VALUE=DATE:20200802
DTSTAMP:20260423T105614
CREATED:20200330T223107Z
LAST-MODIFIED:20200330T223107Z
UID:963-1596240000-1596326399@friendsofstauntonstatepark.org
SUMMARY:Outdoor Skills Day
DESCRIPTION:
URL:https://friendsofstauntonstatepark.org/event/outdoor-skills-day/
LOCATION:Staunton State Park\, 12102 S Elk Creek Road\, Pine\, CO\, 80470\, United States
END:VEVENT
END:VCALENDAR